BEGIN:VCALENDAR
VERSION:2.0
PRODID:-//Glenross Golf Club - ECPv6.15.18//NONSGML v1.0//EN
CALSCALE:GREGORIAN
METHOD:PUBLISH
X-ORIGINAL-URL:https://www.glenrossgc.com
X-WR-CALDESC:Events for Glenross Golf Club
REFRESH-INTERVAL;VALUE=DURATION:PT1H
X-Robots-Tag:noindex
X-PUBLISHED-TTL:PT1H
BEGIN:VTIMEZONE
TZID:America/New_York
BEGIN:DAYLIGHT
TZOFFSETFROM:-0500
TZOFFSETTO:-0400
TZNAME:EDT
DTSTART:20250309T070000
END:DAYLIGHT
BEGIN:STANDARD
TZOFFSETFROM:-0400
TZOFFSETTO:-0500
TZNAME:EST
DTSTART:20251102T060000
END:STANDARD
BEGIN:DAYLIGHT
TZOFFSETFROM:-0500
TZOFFSETTO:-0400
TZNAME:EDT
DTSTART:20260308T070000
END:DAYLIGHT
BEGIN:STANDARD
TZOFFSETFROM:-0400
TZOFFSETTO:-0500
TZNAME:EST
DTSTART:20261101T060000
END:STANDARD
BEGIN:DAYLIGHT
TZOFFSETFROM:-0500
TZOFFSETTO:-0400
TZNAME:EDT
DTSTART:20270314T070000
END:DAYLIGHT
BEGIN:STANDARD
TZOFFSETFROM:-0400
TZOFFSETTO:-0500
TZNAME:EST
DTSTART:20271107T060000
END:STANDARD
END:VTIMEZONE
BEGIN:VEVENT
DTSTART;TZID=America/New_York:20260228T190000
DTEND;TZID=America/New_York:20260228T210000
DTSTAMP:20260424T042350
CREATED:20260106T191259Z
LAST-MODIFIED:20260106T191259Z
UID:10000205-1772305200-1772312400@www.glenrossgc.com
SUMMARY:Daddy & Daughter Dance
DESCRIPTION:Pretty in Pink & Dapper in Blue! \nJoin us for a Daddy–Daughter Dance filled with music\, dancing\, games\, and sweet treats. Dress to impress in pinks and blues and enjoy a night of father-daughter fun! \n  \nDate: Saturday\, February 28th\, 2026 \nTime: 7:00 pm – 9:00 pm \nCost: $35 For Daddy & Daughter  |  Additional Daughters $10 \nIncludes: DJ\, Dancing\, Photo Backdrop\, Games\, Sweet Treats\, and Refreshments \nRegister: HERE \nDon’t miss out on this enchanting evening. We look forward to seeing you there!
URL:https://www.glenrossgc.com/event/daddy-daughter-dance-3/
LOCATION:Glenross Golf Club\, 231 Club House Dr\, Delaware\, OH\, 43015\, United States
ATTACH;FMTTYPE=image/png:https://www.glenrossgc.com/wp-content/uploads/sites/8865/2026/01/GR-DaddyDaughter-Dance-2026-1.png
END:VEVENT
END:VCALENDAR