BEGIN:VCALENDAR
VERSION:2.0
PRODID:-//Glenross Golf Club - ECPv6.15.18//NONSGML v1.0//EN
CALSCALE:GREGORIAN
METHOD:PUBLISH
X-ORIGINAL-URL:https://www.glenrossgc.com
X-WR-CALDESC:Events for Glenross Golf Club
REFRESH-INTERVAL;VALUE=DURATION:PT1H
X-Robots-Tag:noindex
X-PUBLISHED-TTL:PT1H
BEGIN:VTIMEZONE
TZID:America/New_York
BEGIN:DAYLIGHT
TZOFFSETFROM:-0500
TZOFFSETTO:-0400
TZNAME:EDT
DTSTART:20240310T070000
END:DAYLIGHT
BEGIN:STANDARD
TZOFFSETFROM:-0400
TZOFFSETTO:-0500
TZNAME:EST
DTSTART:20241103T060000
END:STANDARD
BEGIN:DAYLIGHT
TZOFFSETFROM:-0500
TZOFFSETTO:-0400
TZNAME:EDT
DTSTART:20250309T070000
END:DAYLIGHT
BEGIN:STANDARD
TZOFFSETFROM:-0400
TZOFFSETTO:-0500
TZNAME:EST
DTSTART:20251102T060000
END:STANDARD
BEGIN:DAYLIGHT
TZOFFSETFROM:-0500
TZOFFSETTO:-0400
TZNAME:EDT
DTSTART:20260308T070000
END:DAYLIGHT
BEGIN:STANDARD
TZOFFSETFROM:-0400
TZOFFSETTO:-0500
TZNAME:EST
DTSTART:20261101T060000
END:STANDARD
BEGIN:DAYLIGHT
TZOFFSETFROM:-0500
TZOFFSETTO:-0400
TZNAME:EDT
DTSTART:20270314T070000
END:DAYLIGHT
BEGIN:STANDARD
TZOFFSETFROM:-0400
TZOFFSETTO:-0500
TZNAME:EST
DTSTART:20271107T060000
END:STANDARD
END:VTIMEZONE
BEGIN:VEVENT
DTSTART;TZID=America/New_York:20251109T100000
DTEND;TZID=America/New_York:20251109T100000
DTSTAMP:20260423T054735
CREATED:20251002T160616Z
LAST-MODIFIED:20251002T160616Z
UID:10000204-1762682400-1762682400@www.glenrossgc.com
SUMMARY:Annual Chili Open
DESCRIPTION:Annual Chili Open Golf Outing on Sunday\, November 9th! \n  \nWhether you’re an experienced golfer or just looking for a fun day out\, this event is open to golfers of all skill levels. It’s a fantastic opportunity to connect with fellow golf enthusiasts from the community\, make new friends\, and enjoy some friendly competition. \n  \n\nDate: Sunday\, November 9th\nTime: 10:00 am Shotgun Start\nFormat: 4 Person Scramble\nCost:$320 per team / $80 per player\nIncludes:\n\nGolf\nCart\nPrizes\nChili\n\n\n\nRegister: HERE \nDon’t miss out on this fantastic day of golf\, chili\, and great company. We look forward to seeing you on November 10th for an unforgettable experience!
URL:https://www.glenrossgc.com/event/annual-chili-open-2/
LOCATION:Glenross Golf Club\, 231 Club House Dr\, Delaware\, OH\, 43015\, United States
ATTACH;FMTTYPE=image/png:https://www.glenrossgc.com/wp-content/uploads/sites/8865/2025/10/Chili-open-2025-no-QR-1.png
END:VEVENT
BEGIN:VEVENT
DTSTART;TZID=America/New_York:20260228T190000
DTEND;TZID=America/New_York:20260228T210000
DTSTAMP:20260423T054735
CREATED:20260106T191259Z
LAST-MODIFIED:20260106T191259Z
UID:10000205-1772305200-1772312400@www.glenrossgc.com
SUMMARY:Daddy & Daughter Dance
DESCRIPTION:Pretty in Pink & Dapper in Blue! \nJoin us for a Daddy–Daughter Dance filled with music\, dancing\, games\, and sweet treats. Dress to impress in pinks and blues and enjoy a night of father-daughter fun! \n  \nDate: Saturday\, February 28th\, 2026 \nTime: 7:00 pm – 9:00 pm \nCost: $35 For Daddy & Daughter  |  Additional Daughters $10 \nIncludes: DJ\, Dancing\, Photo Backdrop\, Games\, Sweet Treats\, and Refreshments \nRegister: HERE \nDon’t miss out on this enchanting evening. We look forward to seeing you there!
URL:https://www.glenrossgc.com/event/daddy-daughter-dance-3/
LOCATION:Glenross Golf Club\, 231 Club House Dr\, Delaware\, OH\, 43015\, United States
ATTACH;FMTTYPE=image/png:https://www.glenrossgc.com/wp-content/uploads/sites/8865/2026/01/GR-DaddyDaughter-Dance-2026-1.png
END:VEVENT
BEGIN:VEVENT
DTSTART;TZID=America/New_York:20260314T133000
DTEND;TZID=America/New_York:20260314T133000
DTSTAMP:20260423T054735
CREATED:20260114T184318Z
LAST-MODIFIED:20260114T184318Z
UID:10000206-1773495000-1773495000@www.glenrossgc.com
SUMMARY:Annual Irish Open
DESCRIPTION:🍀 Join Us for the Glenross Irish Open – March 14th! 🍀 \n  \nGet ready to embrace the luck of the Irish at our annual Irish Open! Gather your crew and enjoy a fun-filled day on the course with great competition\, delicious food\, and plenty of festive cheer. \n  \nDate: Saturday\, March 14th\, 2026 \nLocation: Glenross Golf Club \nPrice: $340 Per Team | $85  Per Player \nStart Time: 1:30 pm Shotgun \nFormat: 4 Person Scramble \nIncludes: Golf\, Cart\, Prizes\, Irish Buffet\, and Keg of Beer after the round. \nRegistration: Advanced Registration is required. Must sign up as a 4-some. Any refunds will be given as a Glenross Golf Certificate. \nRegister: HERE \nWhether you’re in it to win it or just for the FUN\, we can’t wait to see you there!
URL:https://www.glenrossgc.com/event/annual-irish-open/
LOCATION:Glenross Golf Club\, 231 Club House Dr\, Delaware\, OH\, 43015\, United States
ATTACH;FMTTYPE=image/png:https://www.glenrossgc.com/wp-content/uploads/sites/8865/2026/01/Copy-of-GR-Irish-Open-1.png
END:VEVENT
BEGIN:VEVENT
DTSTART;TZID=America/New_York:20260501T170000
DTEND;TZID=America/New_York:20260501T200000
DTSTAMP:20260423T054735
CREATED:20260421T161848Z
LAST-MODIFIED:20260421T165135Z
UID:10000210-1777654800-1777665600@www.glenrossgc.com
SUMMARY:Celebrate Glenross: League Appreciation Week
DESCRIPTION:Kick off Celebrate Glenross with a night dedicated to our league players and guests. \nJoin us on Friday\, May 1 from 5PM–8PM for an evening of golf\, food\, drinks\, and live entertainment. \nEvent Highlights:• Long Drive Contest• Top 10 longest drives earn entry into the Grand Prize Drawing• Longest drive winner receives a swag bag \nEnjoy:• Live Music by Sparrow• Food Truck: Kins Crossing• Sampling: Good Boy & Carbliss \nCome check out our newly remodeled pub and patio and explore our new menu.
URL:https://www.glenrossgc.com/event/league-appreciation-week/
LOCATION:Glenross Golf Club\, 231 Club House Dr\, Delaware\, OH\, 43015\, United States
ATTACH;FMTTYPE=image/png:https://www.glenrossgc.com/wp-content/uploads/sites/8865/2026/04/501.png
END:VEVENT
BEGIN:VEVENT
DTSTART;TZID=America/New_York:20260502T133000
DTEND;TZID=America/New_York:20260502T133000
DTSTAMP:20260423T054735
CREATED:20260303T210008Z
LAST-MODIFIED:20260303T210008Z
UID:10000208-1777728600-1777728600@www.glenrossgc.com
SUMMARY:Cinco De Mayo Scramble
DESCRIPTION:Get ready to celebrate in style at Glenross Golf Club! We invite you to mark your calendars and join us on Saturday\, May 2nd\, for a day filled with golfing fun\, delicious food\, and great company. \n\nDate: Saturday\, May 2nd \nStart Time: 1:30 pm Shotgun Start \nCost: $95 Per Player ($380 Per Team) \nFormat: 4 Player Scramble \nEvent Includes: Golf\, Cart\, Proximities\, Prizes\, Mexican Style Buffet & Keg of Beer after Golf \nRegistration: Click HERE to register. Must register as a team. Any refunds will be given in the form of Glenross Golf Club gift certificates. Contact the golf shop for more information. \n  \nSpace will fill up fast\, so don’t wait! Gather your team\, mark your calendars\, and join us for an unforgettable day of golfing fun and celebration.
URL:https://www.glenrossgc.com/event/cinco-de-mayo-scramble-2/
LOCATION:Glenross Golf Club\, 231 Club House Dr\, Delaware\, OH\, 43015\, United States
ATTACH;FMTTYPE=image/png:https://www.glenrossgc.com/wp-content/uploads/sites/8865/2026/03/Copy-of-2026GR-Cinco-De-Mayo-Scramble.png
END:VEVENT
BEGIN:VEVENT
DTSTART;TZID=America/New_York:20260508T170000
DTEND;TZID=America/New_York:20260508T200000
DTSTAMP:20260423T054735
CREATED:20260421T162403Z
LAST-MODIFIED:20260421T162718Z
UID:10000211-1778259600-1778270400@www.glenrossgc.com
SUMMARY:Celebrate Glenross: Staff Appreciation Week
DESCRIPTION:Join us for Staff Appreciation Week as part of Celebrate Glenross on Friday\, May 8 from 5PM–8PM. \nSpend the evening celebrating the team that makes Glenross special while enjoying great food\, drinks\, and entertainment. \nEvent Highlights:• Blindfolded Putting Contest• Sink your putt to earn entry into the Grand Prize Drawing• Fun\, interactive challenge for all skill levels \nEnjoy:• Live Music by Sparrow• Food Truck: Kings Crossing \nCome out for a relaxed and fun evening on the course with friends and staff.
URL:https://www.glenrossgc.com/event/celebrate-glenross-staff-appreciation-week/
LOCATION:Glenross Golf Club\, 231 Club House Dr\, Delaware\, OH\, 43015\, United States
ATTACH;FMTTYPE=image/png:https://www.glenrossgc.com/wp-content/uploads/sites/8865/2026/04/508.png
END:VEVENT
BEGIN:VEVENT
DTSTART;TZID=America/New_York:20260515T100000
DTEND;TZID=America/New_York:20260515T200000
DTSTAMP:20260423T054735
CREATED:20260421T163633Z
LAST-MODIFIED:20260421T163633Z
UID:10000212-1778839200-1778875200@www.glenrossgc.com
SUMMARY:Celebrate Glenross: Community Night
DESCRIPTION:Bring your friends and family out for Community Night at Glenross on Friday\, May 15. \nEnjoy a fun\, family-friendly afternoon filled with golf\, entertainment\, and community connection. \nEvent Highlights: 10AM – 3PM• Beat the Pro Challenge• Take your shot against the Glenross Pro for a chance to win• Participants earn entry into the Grand Prize Drawing & A Swag Bag \nEnjoy: 5pm – 8pm• Live Music by Mike Wolfe• Food Truck: Fridas• Sampling: Heidelberg \nSpend the afternoon enjoying great company and everything Glenross has to offer.
URL:https://www.glenrossgc.com/event/celebrate-glenross-community-night/
LOCATION:Glenross Golf Club\, 231 Club House Dr\, Delaware\, OH\, 43015\, United States
ATTACH;FMTTYPE=image/png:https://www.glenrossgc.com/wp-content/uploads/sites/8865/2026/04/515.png
END:VEVENT
BEGIN:VEVENT
DTSTART;TZID=America/New_York:20260516T110000
DTEND;TZID=America/New_York:20260516T130000
DTSTAMP:20260423T054735
CREATED:20260321T143030Z
LAST-MODIFIED:20260323T173937Z
UID:10000209-1778929200-1778936400@www.glenrossgc.com
SUMMARY:Mother-Daughter Tea
DESCRIPTION:Our Mother Daughter Tea is the perfect way to celebrate the special women in your life—whether it’s your mom\, daughter\, grandmother\, aunt\, or a close friend. All are welcome for this sweet and memorable gathering! \nDate: Saturday\, May 16th\, 2026 \nTime: 11:00 am – 1:00 pm \nCost: Mother/Daughter Pair – $40 | Additional Daughter – $15 | Additional Adult – $25 \nEvent Includes: \n\nAssortment of sweet treats & delightful bites\nSpecial teas from a local vendor\nRefreshments\nFun and memorable activities for all ages\n\n Click HERE to register. \nWe can’t wait to celebrate with you!
URL:https://www.glenrossgc.com/event/mother-daughter-tea-saturday-may-16-2026/
LOCATION:Glenross Golf Club\, 231 Club House Dr\, Delaware\, OH\, 43015\, United States
ATTACH;FMTTYPE=image/png:https://www.glenrossgc.com/wp-content/uploads/sites/8865/2026/03/GR-Mother-Daughter-Tea-Party-2.png
END:VEVENT
BEGIN:VEVENT
DTSTART;TZID=America/New_York:20260522T170000
DTEND;TZID=America/New_York:20260522T200000
DTSTAMP:20260423T054735
CREATED:20260421T164334Z
LAST-MODIFIED:20260421T164334Z
UID:10000213-1779469200-1779480000@www.glenrossgc.com
SUMMARY:Celebrate Glenross: Family & Friends Night
DESCRIPTION:Grab your crew and join us for Family & Friends Night on Friday\, May 22 from 5PM–8PM. \nEnjoy an evening filled with interactive games\, great food\, and entertainment for all ages. \nEvent Highlights:• Around the World Challenge• Complete all stations to earn a swag bag and receive entry into the Grand Prize Drawing \nEnjoy:• Live Music by Sparrow• Food Truck: Buckeye Country Angus• Sampling: Long Drink \nIt’s the perfect night to relax\, compete\, and enjoy Glenross together.
URL:https://www.glenrossgc.com/event/celebrate-glenross-family-friends-night/
LOCATION:Glenross Golf Club\, 231 Club House Dr\, Delaware\, OH\, 43015\, United States
ATTACH;FMTTYPE=image/png:https://www.glenrossgc.com/wp-content/uploads/sites/8865/2026/04/522.png
END:VEVENT
END:VCALENDAR