BEGIN:VCALENDAR
VERSION:2.0
PRODID:-//Glenross Golf Club - ECPv6.15.18//NONSGML v1.0//EN
CALSCALE:GREGORIAN
METHOD:PUBLISH
X-ORIGINAL-URL:https://www.glenrossgc.com
X-WR-CALDESC:Events for Glenross Golf Club
REFRESH-INTERVAL;VALUE=DURATION:PT1H
X-Robots-Tag:noindex
X-PUBLISHED-TTL:PT1H
BEGIN:VTIMEZONE
TZID:America/New_York
BEGIN:DAYLIGHT
TZOFFSETFROM:-0500
TZOFFSETTO:-0400
TZNAME:EDT
DTSTART:20250309T070000
END:DAYLIGHT
BEGIN:STANDARD
TZOFFSETFROM:-0400
TZOFFSETTO:-0500
TZNAME:EST
DTSTART:20251102T060000
END:STANDARD
BEGIN:DAYLIGHT
TZOFFSETFROM:-0500
TZOFFSETTO:-0400
TZNAME:EDT
DTSTART:20260308T070000
END:DAYLIGHT
BEGIN:STANDARD
TZOFFSETFROM:-0400
TZOFFSETTO:-0500
TZNAME:EST
DTSTART:20261101T060000
END:STANDARD
BEGIN:DAYLIGHT
TZOFFSETFROM:-0500
TZOFFSETTO:-0400
TZNAME:EDT
DTSTART:20270314T070000
END:DAYLIGHT
BEGIN:STANDARD
TZOFFSETFROM:-0400
TZOFFSETTO:-0500
TZNAME:EST
DTSTART:20271107T060000
END:STANDARD
END:VTIMEZONE
BEGIN:VEVENT
DTSTART;TZID=America/New_York:20260522T170000
DTEND;TZID=America/New_York:20260522T200000
DTSTAMP:20260423T095633
CREATED:20260421T164334Z
LAST-MODIFIED:20260421T164334Z
UID:10000213-1779469200-1779480000@www.glenrossgc.com
SUMMARY:Celebrate Glenross: Family & Friends Night
DESCRIPTION:Grab your crew and join us for Family & Friends Night on Friday\, May 22 from 5PM–8PM. \nEnjoy an evening filled with interactive games\, great food\, and entertainment for all ages. \nEvent Highlights:• Around the World Challenge• Complete all stations to earn a swag bag and receive entry into the Grand Prize Drawing \nEnjoy:• Live Music by Sparrow• Food Truck: Buckeye Country Angus• Sampling: Long Drink \nIt’s the perfect night to relax\, compete\, and enjoy Glenross together.
URL:https://www.glenrossgc.com/event/celebrate-glenross-family-friends-night/
LOCATION:Glenross Golf Club\, 231 Club House Dr\, Delaware\, OH\, 43015\, United States
ATTACH;FMTTYPE=image/png:https://www.glenrossgc.com/wp-content/uploads/sites/8865/2026/04/522.png
END:VEVENT
BEGIN:VEVENT
DTSTART;TZID=America/New_York:20260613T080000
DTEND;TZID=America/New_York:20260613T080000
DTSTAMP:20260423T095633
CREATED:20260423T135606Z
LAST-MODIFIED:20260423T135606Z
UID:10000214-1781337600-1781337600@www.glenrossgc.com
SUMMARY:Independence Golf Outing
DESCRIPTION:Don’t Miss One of the Best Events of the Summer! \n\nThis year we’re excited to introduce TWO waves for our Annual Independence Golf Outing—giving even more players the chance to join in on the fun while helping us make this our biggest (and fastest-selling) event yet! \n\nJoin us for a day filled with friendly competition\, great food\, cold drinks\, and a chance to play for a great cause. \n\nDate: Saturday\, June 13th\, 2026\nShotgun Start Times: 8:00 AM or 2:00 PM\nEntry: $100 per Player | $400 per 4-Some \n\nYour Day Includes:\n• 18 Holes of Golf with Cart\n• $10 Pro Shop Voucher\n• On-Course Games & Prizes\n• Post-Round Buffet & Keg of Beer\n• Plus\, $5 of every entry goes to Folds of Honor\, supporting military families through education \n\n⛳️ Registration: CLICK HERE \n\nWith two waves available\, spots will go fast—this event will sell out\, so grab your preferred tee time and lock in your foursome today!
URL:https://www.glenrossgc.com/event/independence-golf-outing-2/
LOCATION:Glenross Golf Club\, 231 Club House Dr\, Delaware\, OH\, 43015\, United States
ATTACH;FMTTYPE=image/png:https://www.glenrossgc.com/wp-content/uploads/sites/8865/2026/04/GR-No-QR-1.png
END:VEVENT
END:VCALENDAR