BEGIN:VCALENDAR
VERSION:2.0
PRODID:-//Glenross Golf Club - ECPv6.15.18//NONSGML v1.0//EN
CALSCALE:GREGORIAN
METHOD:PUBLISH
X-WR-CALNAME:Glenross Golf Club
X-ORIGINAL-URL:https://www.glenrossgc.com
X-WR-CALDESC:Events for Glenross Golf Club
REFRESH-INTERVAL;VALUE=DURATION:PT1H
X-Robots-Tag:noindex
X-PUBLISHED-TTL:PT1H
BEGIN:VTIMEZONE
TZID:America/New_York
BEGIN:DAYLIGHT
TZOFFSETFROM:-0500
TZOFFSETTO:-0400
TZNAME:EDT
DTSTART:20240310T070000
END:DAYLIGHT
BEGIN:STANDARD
TZOFFSETFROM:-0400
TZOFFSETTO:-0500
TZNAME:EST
DTSTART:20241103T060000
END:STANDARD
BEGIN:DAYLIGHT
TZOFFSETFROM:-0500
TZOFFSETTO:-0400
TZNAME:EDT
DTSTART:20250309T070000
END:DAYLIGHT
BEGIN:STANDARD
TZOFFSETFROM:-0400
TZOFFSETTO:-0500
TZNAME:EST
DTSTART:20251102T060000
END:STANDARD
BEGIN:DAYLIGHT
TZOFFSETFROM:-0500
TZOFFSETTO:-0400
TZNAME:EDT
DTSTART:20260308T070000
END:DAYLIGHT
BEGIN:STANDARD
TZOFFSETFROM:-0400
TZOFFSETTO:-0500
TZNAME:EST
DTSTART:20261101T060000
END:STANDARD
END:VTIMEZONE
BEGIN:VEVENT
DTSTART;TZID=America/New_York:20250503T133000
DTEND;TZID=America/New_York:20250503T133000
DTSTAMP:20260422T043234
CREATED:20250411T165920Z
LAST-MODIFIED:20250411T165920Z
UID:10000196-1746279000-1746279000@www.glenrossgc.com
SUMMARY:Cinco De Mayo Scramble
DESCRIPTION:Annual Cinco De Mayo Scramble at Glenross Golf Club \nGet ready to celebrate Cinco De Mayo in style with our exciting Cinco de Mayo Scramble event at Glenross Golf Club! We invite you to mark your calendars and join us on Saturday\, May 3rd\, for a day filled with golfing fun\, delicious food\, and great company. \nDate: Saturday\, May 3rd \nStart Time: 1:30pm Shotgun Start \nCost: $90 Per Player ($360 Per Team) \nFormat: 4 Player Scramble \nEvent Includes: Golf\, Cart\, Proximities\, Prizes\, $10 Pro Shop Voucher\, Mexican Style Buffet & Keg of Beer after Golf. \n  \nSee you on the green!
URL:https://www.glenrossgc.com/event/cinco-de-mayo-scramble/
LOCATION:Glenross Golf Club\, 231 Club House Dr\, Delaware\, OH\, 43015\, United States
ATTACH;FMTTYPE=image/jpeg:https://www.glenrossgc.com/wp-content/uploads/sites/8865/2025/04/489811111_1240960798039023_2368530043727116874_n.jpg
END:VEVENT
BEGIN:VEVENT
DTSTART;TZID=America/New_York:20250509T190000
DTEND;TZID=America/New_York:20250509T210000
DTSTAMP:20260422T043234
CREATED:20250418T181732Z
LAST-MODIFIED:20250418T181732Z
UID:10000197-1746817200-1746824400@www.glenrossgc.com
SUMMARY:Party on the Patio
DESCRIPTION:Join us for a Party on the Patio at Glenross on May 9th from 7:00pm-9:00pm\n\n-Live Acoustic Music by Mike Wolfe-Kitchen will be open until 9:00pm-The Pub will be open until 10:00pm
URL:https://www.glenrossgc.com/event/party-on-the-patio-2/
LOCATION:Glenross Golf Club\, 231 Club House Dr\, Delaware\, OH\, 43015\, United States
ATTACH;FMTTYPE=image/png:https://www.glenrossgc.com/wp-content/uploads/sites/8865/2025/04/5.9.png
END:VEVENT
END:VCALENDAR