BEGIN:VCALENDAR
VERSION:2.0
PRODID:-//Glenross Golf Club - ECPv6.15.18//NONSGML v1.0//EN
CALSCALE:GREGORIAN
METHOD:PUBLISH
X-ORIGINAL-URL:https://www.glenrossgc.com
X-WR-CALDESC:Events for Glenross Golf Club
REFRESH-INTERVAL;VALUE=DURATION:PT1H
X-Robots-Tag:noindex
X-PUBLISHED-TTL:PT1H
BEGIN:VTIMEZONE
TZID:America/New_York
BEGIN:DAYLIGHT
TZOFFSETFROM:-0500
TZOFFSETTO:-0400
TZNAME:EDT
DTSTART:20240310T070000
END:DAYLIGHT
BEGIN:STANDARD
TZOFFSETFROM:-0400
TZOFFSETTO:-0500
TZNAME:EST
DTSTART:20241103T060000
END:STANDARD
BEGIN:DAYLIGHT
TZOFFSETFROM:-0500
TZOFFSETTO:-0400
TZNAME:EDT
DTSTART:20250309T070000
END:DAYLIGHT
BEGIN:STANDARD
TZOFFSETFROM:-0400
TZOFFSETTO:-0500
TZNAME:EST
DTSTART:20251102T060000
END:STANDARD
BEGIN:DAYLIGHT
TZOFFSETFROM:-0500
TZOFFSETTO:-0400
TZNAME:EDT
DTSTART:20260308T070000
END:DAYLIGHT
BEGIN:STANDARD
TZOFFSETFROM:-0400
TZOFFSETTO:-0500
TZNAME:EST
DTSTART:20261101T060000
END:STANDARD
END:VTIMEZONE
BEGIN:VEVENT
DTSTART;TZID=America/New_York:20250627T190000
DTEND;TZID=America/New_York:20250627T210000
DTSTAMP:20260420T082658
CREATED:20250418T181854Z
LAST-MODIFIED:20250418T181854Z
UID:10000198-1751050800-1751058000@www.glenrossgc.com
SUMMARY:Party on the Patio
DESCRIPTION:Join us for a Party on the Patio at Glenross on June 27th from 7:00pm-9:00pm\n\n-Live Acoustic Music by Mike Wolfe-Kitchen will be open until 9:00pm-The Pub will be open until 10:00pm
URL:https://www.glenrossgc.com/event/party-on-the-patio-3/
LOCATION:Glenross Golf Club\, 231 Club House Dr\, Delaware\, OH\, 43015\, United States
ATTACH;FMTTYPE=image/png:https://www.glenrossgc.com/wp-content/uploads/sites/8865/2025/04/6.27.png
END:VEVENT
BEGIN:VEVENT
DTSTART;TZID=America/New_York:20250628T133000
DTEND;TZID=America/New_York:20250628T133000
DTSTAMP:20260420T082658
CREATED:20250606T164826Z
LAST-MODIFIED:20250606T164826Z
UID:10000201-1751117400-1751117400@www.glenrossgc.com
SUMMARY:Independence Outing
DESCRIPTION:Independence  Golf Outing benefiting Folds of Honor at Glenross Golf Club \n  \nDate: Saturday\, June 28th\, 2025 \nTime: 1:30 PM Shotgun \nCost: $100 Per Player | $400 Per 4-Some \nIncludes: 18 Holes of Golf\, Cart\, $10 Pro Shop Voucher\, Games\, Prizes\, Buffet\, and Keg of Beer after Golf as well as $5 per player will be Donated to Folds of Honor
URL:https://www.glenrossgc.com/event/independence-outing/
LOCATION:Glenross Golf Club\, 231 Club House Dr\, Delaware\, OH\, 43015\, United States
ATTACH;FMTTYPE=image/jpeg:https://www.glenrossgc.com/wp-content/uploads/sites/8865/2025/06/GR-Independence-Day-Outing-2025-.jpg
END:VEVENT
END:VCALENDAR